BEGIN:VCALENDAR
VERSION:2.0
PRODID:-//Squarespace Inc/Squarespace 6//v6//EN
BEGIN:VEVENT
UID:5ca4561f652dea6fb0ec0381@squarespace.com
DTSTAMP:20190506T001637Z
DTSTART:20190511T000000Z
DTEND:20190511T030000Z
SUMMARY:Cultivate&nbsp\;Your&nbsp\;3&nbsp\;Treasures&nbsp\;with&nbsp\;Truth
 &nbsp\;Robinson
END:VEVENT
END:VCALENDAR
