BEGIN:VCALENDAR
VERSION:2.0
PRODID:-//Squarespace Inc/Squarespace 6//v6//EN
BEGIN:VEVENT
UID:5ca456bcf9619a1369c0a2a0@squarespace.com
DTSTAMP:20190506T001555Z
DTSTART:20190510T080000Z
DTEND:20190510T103000Z
SUMMARY:AcuYin with Truth Robinson
END:VEVENT
END:VCALENDAR
