BEGIN:VCALENDAR
VERSION:2.0
PRODID:-//Squarespace Inc/Squarespace 6//v6//EN
BEGIN:VEVENT
UID:5e4e2b94c4809d64bf0105ef@squarespace.com
DTSTAMP:20200220T074143Z
DTSTART:20200314T020000Z
DTEND:20200314T040000Z
SUMMARY:2 Hour Pelvic Floor Workshop with Marie Gaboriau
END:VEVENT
END:VCALENDAR
